BEGIN:VCALENDAR
VERSION:2.0
PRODID:-//APFPC - ECPv5.16.1//NONSGML v1.0//EN
CALSCALE:GREGORIAN
METHOD:PUBLISH
X-ORIGINAL-URL:https://apfpc.pt
X-WR-CALDESC:Events for APFPC
REFRESH-INTERVAL;VALUE=DURATION:PT1H
X-Robots-Tag:noindex
X-PUBLISHED-TTL:PT1H
BEGIN:VTIMEZONE
TZID:UTC
BEGIN:STANDARD
TZOFFSETFROM:+0000
TZOFFSETTO:+0000
TZNAME:UTC
DTSTART:20250101T000000
END:STANDARD
END:VTIMEZONE
BEGIN:VEVENT
DTSTART;TZID=UTC:20251105T210000
DTEND;TZID=UTC:20251105T230000
DTSTAMP:20260419T134258
CREATED:20251020T234425Z
LAST-MODIFIED:20251021T001016Z
UID:53451-1762376400-1762383600@apfpc.pt
SUMMARY:Formação Material de Penso e Feridas Radiológicas
DESCRIPTION:As inscrições para a Formação Material de Penso e Feridas Radiológicas já se encontram abertas! \nEsta formação da Associação Portuguesa de Farmacêuticos para a Comunidade – APFPC e apoiada pela MC Medical by Palex\, tem como objectivo dotar os farmacêuticos de conhecimentos sobre etiologia e fisiologia de feridas\, incluindo a ferida radiológica\, cuidados e reabilitação de pacientes com diferentes tipos de feridas\, abordando os dispositivos médicos disponíveis em farmácia comunitária e que aprimoram a sua qualidade de vida. O plano de estudos visa garantir um cuidado de qualidade nas farmácias comunitárias\, contribuindo para a melhoria do bem-estar dos utentes. \nEste curso compacto\, é constituído por 3 sessões online\, com enfoque em casos e exemplos práticos\, com o Dr. Pedro Charneca\, farmacêutico\, e a Enfermeira Elisabete Soares como formadores. \n \nA formação será creditada pela Ordem dos Farmacêuticos! \nNas imagens podem encontrar mais informação sobre o programa e calendarização do curso\, que decorrerá nos dias 29 de Outubro\, 5 e 11 de Novembro\, com sessões às 21h00. \nA formação terá como custo 35€ para sócios e 90€ para não-sócios da APFPC. \nPode fazer o pagamento do valor de inscrição para o IBAN PT50 0007 0000 0057 2108 4262 3\, ou por MBWAY para o 935199084 e enviar o comprovativo para inscricoes@apfpc.pt \nAs inscrições são aqui https://forms.gle/tDsRaEuqWQ6ExdgU9 \nOs links de acesso à formação\, bem como o manual da formação\, serão disponibilizados por email antes da realização de cada uma das sessões. \n\n\nQualquer dúvida ou questão adicional pode ser colocada por email formacao@apfpc.pt \nContamos com a vossa participação!\n\n\n\n\n\n\nSer sócio da APFPC
URL:https://apfpc.pt/evento/formacao-material-de-penso-e-feridas-radiologicas/2025-11-05/
LOCATION:Online
ATTACH;FMTTYPE=image/jpeg:https://apfpc.pt/wp-content/uploads/2025/10/Programa-formacao1.jpg
ORGANIZER;CN="APFPC":MAILTO:geral@apfpc.pt
END:VEVENT
END:VCALENDAR