BEGIN:VCALENDAR
VERSION:2.0
PRODID:-//APFPC - ECPv5.16.1//NONSGML v1.0//EN
CALSCALE:GREGORIAN
METHOD:PUBLISH
X-ORIGINAL-URL:https://apfpc.pt
X-WR-CALDESC:Events for APFPC
REFRESH-INTERVAL;VALUE=DURATION:PT1H
X-Robots-Tag:noindex
X-PUBLISHED-TTL:PT1H
BEGIN:VTIMEZONE
TZID:UTC
BEGIN:STANDARD
TZOFFSETFROM:+0000
TZOFFSETTO:+0000
TZNAME:UTC
DTSTART:20230101T000000
END:STANDARD
END:VTIMEZONE
BEGIN:VEVENT
DTSTART;TZID=UTC:20230418T213000
DTEND;TZID=UTC:20230418T230000
DTSTAMP:20260419T194833
CREATED:20230410T220544Z
LAST-MODIFIED:20230417T183046Z
UID:52770-1681853400-1681858800@apfpc.pt
SUMMARY:O Farmacêutico e o Doente - Diabetes
DESCRIPTION:A diabetes é uma doença cada vez mais comum em Portugal\, afetando cerca de 1\,3 milhões de pessoas entre os 20 e os 79 anos (DGS 2020). A diabetes tipo 2 é a mais prevalente\, correspondendo a cerca de 90% dos casos\, enquanto a diabetes tipo 1 representa cerca de 10% dos casos. O envelhecimento da população e o aumento dos fatores de risco\, como a obesidade e o sedentarismo\, têm contribuído para o aumento da sua prevalência nas últimas décadas.\n\n\nAlém disso\, a diabetes está frequentemente associada a outras comorbilidades\, como a hipertensão arterial\, dislipidemia\, obesidade e doença cardiovascular\, o que agrava a sua evolução e aumenta o risco de complicações.\n\n\nNeste contexto\, os farmacêuticos\, como profissionais de saúde altamente qualificados e acessíveis à população\, têm um papel fundamental na prevenção\, diagnóstico e tratamento da diabetes\, bem como no controlo das comorbilidades associadas. Podem ajudar na educação e aconselhamento sobre a gestão e monitorização da doença\, prevenção de complicações e adaptação do estilo de vida.\n\n\n \n\n\nPor esse motivo convidámos a Associação Protetora dos Diabéticos de Portugal (APDP) para a próxima sessão O Farmacêutico e o Doente\, no próximo dia 18 de Abril pelas 21h30.\n\n\nA AAPDP\, inicialmente chamada de Associação Protectora dos Diabéticos Pobres\, foi fundada em 1926\, com o objetivo de ajudar as pessoas com diabetes a gerir a sua condição e a melhorar a sua qualidade de vida. É a mais antiga associação de pessoas com diabetes do mundo e tem desempenhado um papel fundamental na educação e no acompanhamento das pessoas com diabetes\, seus familiares e cuidadores\, assim como no conhecimento e consciencialização sobre a doença junto da população.\n\nCom a participação do Presidente da APDP\, Dr. José Manuel Boavida\, e da Diretora Técnica da Farmácia da APDP\, Dra. Filipa Cabral.\n\n\n\n  \n\n\n\n\nVenha conhecer melhor esta Associação de Doentes e como o farmacêutico pode ajudar mais e melhor as pessoas que vivem com a Diabetes!\n\n\n \n\n\nInscrições aqui: https://forms.gle/a6Br3NEP4i9ezJG49\n\n\n\n\nSer sócio da APDP
URL:https://apfpc.pt/evento/o-farmaceutico-e-o-doente-diabetes/
ATTACH;FMTTYPE=image/png:https://apfpc.pt/wp-content/uploads/2023/04/20230417_191446_0000.png
ORGANIZER;CN="APFPC":MAILTO:geral@apfpc.pt
END:VEVENT
END:VCALENDAR