BEGIN:VCALENDAR
VERSION:2.0
PRODID:-//APFPC - ECPv5.16.1//NONSGML v1.0//EN
CALSCALE:GREGORIAN
METHOD:PUBLISH
X-WR-CALNAME:APFPC
X-ORIGINAL-URL:https://apfpc.pt
X-WR-CALDESC:Events for APFPC
REFRESH-INTERVAL;VALUE=DURATION:PT1H
X-Robots-Tag:noindex
X-PUBLISHED-TTL:PT1H
BEGIN:VTIMEZONE
TZID:UTC
BEGIN:STANDARD
TZOFFSETFROM:+0000
TZOFFSETTO:+0000
TZNAME:UTC
DTSTART:20230101T000000
END:STANDARD
END:VTIMEZONE
BEGIN:VEVENT
DTSTART;TZID=UTC:20230614T213000
DTEND;TZID=UTC:20230614T230000
DTSTAMP:20260419T164918
CREATED:20230604T222856Z
LAST-MODIFIED:20230604T222856Z
UID:52831-1686778200-1686783600@apfpc.pt
SUMMARY:O Farmacêutico e o Voluntariado em Saúde
DESCRIPTION:Dia 14 de Junho pelas 21h30 vamos falar sobre O Farmacêutico e o Voluntariado em Saúde.\nVamos contar com a presença da Dra. Manuela Pimenta\, Farmacêutica e Mestre em Análises Clínicas\, e da Dra. Filipa Fernandes\, Médica e Especialista em Patologia Clínica\, que contam com larga experiência em missões de voluntariado no âmbito da saúde e da ajuda humanitária.\nContamos com a vossa participação\, para conhecer como o farmacêutico pode ajudar as pessoas mais vulneráveis e que necessitam de ajuda humanitária!\n\n\nA sessão será realizada através da plataforma Microsoft Teams e será gravada. O link de acesso será enviado no dia anterior à sessão.\n\nPodem se inscrever aqui https://forms.gle/Yoigkfzr76j8jh4g7\n\n\nSer sócio da APFPC
URL:https://apfpc.pt/evento/o-farmaceutico-e-o-voluntariado-em-saude/
ATTACH;FMTTYPE=image/png:https://apfpc.pt/wp-content/uploads/2023/06/APFPC-Sessao-online-Voluntariado-junho2023-1resize.png
END:VEVENT
END:VCALENDAR