BEGIN:VCALENDAR
VERSION:2.0
PRODID:-//APFPC - ECPv5.16.1//NONSGML v1.0//EN
CALSCALE:GREGORIAN
METHOD:PUBLISH
X-WR-CALNAME:APFPC
X-ORIGINAL-URL:https://apfpc.pt
X-WR-CALDESC:Events for APFPC
REFRESH-INTERVAL;VALUE=DURATION:PT1H
X-Robots-Tag:noindex
X-PUBLISHED-TTL:PT1H
BEGIN:VTIMEZONE
TZID:UTC
BEGIN:STANDARD
TZOFFSETFROM:+0000
TZOFFSETTO:+0000
TZNAME:UTC
DTSTART:20230101T000000
END:STANDARD
END:VTIMEZONE
BEGIN:VEVENT
DTSTART;TZID=UTC:20230704T213000
DTEND;TZID=UTC:20230704T233000
DTSTAMP:20260419T151827
CREATED:20230630T194539Z
LAST-MODIFIED:20230630T194614Z
UID:52890-1688506200-1688513400@apfpc.pt
SUMMARY:O Farmacêutico e o Doente - Parkinson
DESCRIPTION:Dia 4 de julho\, pelas 21h30\, contaremos com a participação de João Carreira\, presidente da Associação Portuguesa de Doentes de Parkinson\, para nos falar sobre esta Associação\, a sua atividade e objetivos\, e de como o Farmacêutico pode ajudar mais as pessoas que vivem com esta doença!\n\n  \n\nA sessão é gratuita mas carece de inscrição\, através deste link https://forms.gle/jNQ1dGmKfv2p9Ubz9\n\nO link de acesso será enviado no dia da sessão\, será realizada por Microsoft Teams e será gravada.\n\nContamos com a sua participação!
URL:https://apfpc.pt/evento/o-farmaceutico-e-o-doente-parkinson/
ATTACH;FMTTYPE=image/jpeg:https://apfpc.pt/wp-content/uploads/2023/06/parkinson-scaled.jpg
END:VEVENT
BEGIN:VEVENT
DTSTART;TZID=UTC:20230726T213000
DTEND;TZID=UTC:20230726T230000
DTSTAMP:20260419T151827
CREATED:20230711T222148Z
LAST-MODIFIED:20230716T092434Z
UID:52897-1690407000-1690412400@apfpc.pt
SUMMARY:O Farmacêutico e a Literacia em Saúde
DESCRIPTION:Segundo a Organização Mundial da Saúde Literacia em Saúde é o conjunto de “competências cognitivas e sociais e a capacidade dos indivíduos para ganharem acesso a compreender e a usar informação de forma que promovam e mantenham boa saúde“. A capacidade para tomar decisões em saúde fundamentadas\, seja no decurso da vida do dia-a-dia ou na utilização do sistema de saúde e no contexto político\, traduz-se em ganhos em saúde. \nConstituída a 19 de janeiro de 2022\, a Sociedade Portuguesa de Literacia em Saúde – SPLS é uma associação dotada de personalidade jurídica sem fins lucrativos\, que prossegue fins científicos\, formativos\, técnicos\, organizativos\, éticos e humanos na promoção\, desenvolvimento e aperfeiçoamento da prática da Literacia em Saúde. A enfermeira Sandra Laia Esteves\, Vice-Presidente do Conselho Fiscal da Sociedade Portuguesa de Literacia em Saúde\, Mestre e Enfermeira Especialista em Enfermagem Comunitária estará connosco no próximo dia 26 de Julho\, pelas 21h30\, para “O Farmacêutico e a Literacia em Saúde.” \nJuntem-se a nós para discutir o papel do farmacêutico na promoção da literacia em saúde junto da sua comunidade! \nA sessão é gratuita mas carece de inscrição através deste link: https://forms.gle/jDU5rANKNDTCHy3F6 \nA sessão será realizada através da plataforma Microsoft Teams e será gravada. \nO link de acesso será enviado por email no dia anterior à sessão. \n\n\n\nSer sócio da APFPC
URL:https://apfpc.pt/evento/o-farmaceutico-e-a-literacia-em-saude/
LOCATION:Online
ATTACH;FMTTYPE=image/jpeg:https://apfpc.pt/wp-content/uploads/2023/07/Poster-SPLS-min-scaled.jpg
ORGANIZER;CN="APFPC":MAILTO:geral@apfpc.pt
END:VEVENT
END:VCALENDAR