BEGIN:VCALENDAR
VERSION:2.0
PRODID:-//APFPC - ECPv5.16.1//NONSGML v1.0//EN
CALSCALE:GREGORIAN
METHOD:PUBLISH
X-ORIGINAL-URL:https://apfpc.pt
X-WR-CALDESC:Events for APFPC
REFRESH-INTERVAL;VALUE=DURATION:PT1H
X-Robots-Tag:noindex
X-PUBLISHED-TTL:PT1H
BEGIN:VTIMEZONE
TZID:UTC
BEGIN:STANDARD
TZOFFSETFROM:+0000
TZOFFSETTO:+0000
TZNAME:UTC
DTSTART:20230101T000000
END:STANDARD
END:VTIMEZONE
BEGIN:VEVENT
DTSTART;TZID=UTC:20230316T213000
DTEND;TZID=UTC:20230316T213000
DTSTAMP:20260419T230353
CREATED:20230305T232557Z
LAST-MODIFIED:20230317T220356Z
UID:52708-1679002200-1679002200@apfpc.pt
SUMMARY:O Farmacêutico e o Doente - Endometriose
DESCRIPTION:No próximo dia 16 de Março\, Quinta-Feira\, pelas 21h30h\, a APFPC vai organizar a sessão “O Farmacêutico e a Doente com Endometriose”. Contaremos com a presença de Susana Fonseca\, Fundadora e Presidente da MulherEndo – Associação Portuguesa de Apoio a Mulheres com Endometriose.\n\nA Endometriose causa sofrimento diário a muitas mulheres. Seja pelas suas menstruações e ovulações dolorosas\, seja pela influência negativa na sua fertilidade ou por tantos outros sintomas inespecíficos\, que a torna uma doença de difícil diagnóstico.\nSendo o farmacêutico o profissional de saúde mais próximo e facilmente acessível por toda a população\, achamos que este é um tema chave para que estejamos alertados de forma a ajudar a identificar sinais e encaminhar as mulheres para os cuidados necessários.\n\nParticipe para conhecer melhor esta Associação de Doentes e como o farmacêutico pode ajudar mais as pessoas que vivem com Endometriose.\n\nA sessão será realizada através da plataforma Microsoft Teams.\n\nInscrições aqui \n\nhttps://forms.gle/Fh7tUYmD4r4RpDsa7\n\n\n\n\n\nSer sócio APFPC
URL:https://apfpc.pt/evento/o-farmaceutico-e-o-doente-endometriose/
ATTACH;FMTTYPE=image/jpeg:https://apfpc.pt/wp-content/uploads/2023/03/APFPC-Endometriose.jpg
ORGANIZER;CN="APFPC":MAILTO:geral@apfpc.pt
END:VEVENT
END:VCALENDAR