BEGIN:VCALENDAR
VERSION:2.0
PRODID:-//APFPC - ECPv5.16.1//NONSGML v1.0//EN
CALSCALE:GREGORIAN
METHOD:PUBLISH
X-WR-CALNAME:APFPC
X-ORIGINAL-URL:https://apfpc.pt
X-WR-CALDESC:Events for APFPC
REFRESH-INTERVAL;VALUE=DURATION:PT1H
X-Robots-Tag:noindex
X-PUBLISHED-TTL:PT1H
BEGIN:VTIMEZONE
TZID:UTC
BEGIN:STANDARD
TZOFFSETFROM:+0000
TZOFFSETTO:+0000
TZNAME:UTC
DTSTART:20230101T000000
END:STANDARD
END:VTIMEZONE
BEGIN:VEVENT
DTSTART;TZID=UTC:20230502T213000
DTEND;TZID=UTC:20230502T230000
DTSTAMP:20260419T194839
CREATED:20230417T193256Z
LAST-MODIFIED:20230417T193256Z
UID:52791-1683063000-1683068400@apfpc.pt
SUMMARY:O Farmacêutico e o Doente com Psoríase
DESCRIPTION:No próximo dia 2 de Maio\, Terça-Feira\, pelas 21h30h\, a APFPC vai organizar a sessão “O Farmacêutico e o Doente com Psoríase”. Contaremos com a presença de Jaime Melancia\, Presidente da Direção da PSOPortugal – Associação Portuguesa da Psoríase. \nA Psoríase é uma doença sistémica crónica que se manifesta principalmente na pele por manchas escamosas\, vermelhas e inflamadas. Pode causar uma série de problemas para o doente\, tanto físicos quanto emocionais\, onde se incluem prurido\, desconforto e dor\, mas também problemas de autoestima e confiança\, que podem levar a perturbações de ansiedade e depressão.  \nSendo o farmacêutico o profissional de saúde mais próximo e mais acessível a toda a população\, deve estar alerta para a melhor forma de acompanhar e aconselhar estes doentes e assim contribuir para a melhoria dos seus sintomas e da sua qualidade de vida. \n  \n\nParticipe para conhecer melhor esta Associação de Doentes e como o farmacêutico pode ajudar mais as pessoas que vivem com Psoríase! \n\n\nA sessão será realizada através da plataforma Microsoft Teams e será gravada.\n \nInscrições aqui: https://forms.gle/6vx3VmpGnms5z7Sy5 \n\nSer sócio da APFPC
URL:https://apfpc.pt/evento/o-farmaceutico-e-o-doente-com-psoriase/
ATTACH;FMTTYPE=image/png:https://apfpc.pt/wp-content/uploads/2023/04/Post-APFPC-sessao-online-Psoriase1.png
END:VEVENT
END:VCALENDAR