BEGIN:VCALENDAR
VERSION:2.0
PRODID:-//APFPC - ECPv5.16.1//NONSGML v1.0//EN
CALSCALE:GREGORIAN
METHOD:PUBLISH
X-ORIGINAL-URL:https://apfpc.pt
X-WR-CALDESC:Events for APFPC
REFRESH-INTERVAL;VALUE=DURATION:PT1H
X-Robots-Tag:noindex
X-PUBLISHED-TTL:PT1H
BEGIN:VTIMEZONE
TZID:UTC
BEGIN:STANDARD
TZOFFSETFROM:+0000
TZOFFSETTO:+0000
TZNAME:UTC
DTSTART:20250101T000000
END:STANDARD
END:VTIMEZONE
BEGIN:VEVENT
DTSTART;TZID=UTC:20251201T213000
DTEND;TZID=UTC:20251201T230000
DTSTAMP:20260419T134308
CREATED:20251115T234308Z
LAST-MODIFIED:20251117T194510Z
UID:53468-1764624600-1764630000@apfpc.pt
SUMMARY:O Farmacêutico e o Doente Neuromuscular
DESCRIPTION:No próximo dia 1 de Dezembro\, pelas 21h30\, vamos falar com o Dr. Joaquim Brites\, Presidente da APN – Associação Portuguesa de Neuromusculares.\n\n\n\n\nUm doente neuromuscular é alguém que vive com uma das muitas doenças que formam o maior grupo de doenças raras. Estas\, dividem-se em três grandes grupos – As miopatias\, que afetam os músculos\, as Neuropatias\, que afetam os nervos e as doenças do neurónio motor que afetam a junção neuromuscular. Todas elas se caracterizam pela progressiva perda de força muscular\, alterações músculo-esqueléticas\, dificuldades cardíacas e respiratórias. As causas são\, normalmente\, genéticas e os sintomas variam com o diagnóstico. Na sua maioria\, estas doenças não têm cura e afetam gravemente a capacidade motora dos seus portadores\, impondo-lhes uma drástica perda de autonomia. Estas pessoas dependem totalmente de tecnologias de apoio para viverem e da ajuda de terceiros para superarem as dificuldades diárias.\n\nEstima-se que em Portugal existam mais de 5000  doentes afectados\, encontrando-se distribuídos por diferentes patologias. No entanto\, as doenças neuromusculares ainda são muito desconhecidas pelo grande público e\, até\, por muitos profissionais de saúde.\n\n\n\n\n\nA APN tem procurado afirmar-se como a instituição representativa deste grupo de doenças raras. O seu principal objetivo é o de divulgar as doenças\, apoiar os seus portadores\, familiares ou cuidadores\, acompanhar e informar a comunidade escolar e lutar para que\, no terreno\, existam melhores condições de vida para estas pessoas.\n\n\n\nInscrevam-se e venham conhecer a APN e discutir o papel do farmacêutico na gestão de saúde e apoio ao doente neuromuscular.\n\n\nA sessão é gratuita\, será realizada por Microsoft Teams e será gravada.\n\nInscrições na sessão!\n\nQuero ser sócio da APFPC!
URL:https://apfpc.pt/evento/o-farmaceutico-e-o-doente-neuromuscular/
ATTACH;FMTTYPE=image/png:https://apfpc.pt/wp-content/uploads/2025/11/O-Farmaceutico-e-o-Doente-APN-1-min.png
ORGANIZER;CN="APFPC":MAILTO:geral@apfpc.pt
END:VEVENT
END:VCALENDAR