BEGIN:VCALENDAR
VERSION:2.0
PRODID:-//APFPC - ECPv5.16.1//NONSGML v1.0//EN
CALSCALE:GREGORIAN
METHOD:PUBLISH
X-ORIGINAL-URL:https://apfpc.pt
X-WR-CALDESC:Events for APFPC
REFRESH-INTERVAL;VALUE=DURATION:PT1H
X-Robots-Tag:noindex
X-PUBLISHED-TTL:PT1H
BEGIN:VTIMEZONE
TZID:UTC
BEGIN:STANDARD
TZOFFSETFROM:+0000
TZOFFSETTO:+0000
TZNAME:UTC
DTSTART:20260101T000000
END:STANDARD
END:VTIMEZONE
BEGIN:VEVENT
DTSTART;TZID=UTC:20260115T210000
DTEND;TZID=UTC:20260115T230000
DTSTAMP:20260419T121900
CREATED:20251203T235141Z
LAST-MODIFIED:20260204T210840Z
UID:53484-1768510800-1768518000@apfpc.pt
SUMMARY:Módulo I - Vulvovaginites e Infeções Ginecológicas - o guia do corrimento
DESCRIPTION:Apresentamos o primeiro módulo do novo ciclo formativo em saúde feminina que a APFPC vai lançar com o apoio da Pharma Kern!\n\n\n\nVulvovaginites e Infeções Ginecológicas – o guia do corrimento\n\n\n\nVamos abordar:\n\nAs bases para uma flora vaginal saudável\nCandidíase (infeção aguda e recorrente)\n Vaginose Bacteriana (infeção aguda\, recorrente e complicações)\nVaginose Citolítica e Vaginite Aeróbica\n\n Infeção por Clamídia\, Gonorreia e Trichomonas.\n\n\nAlém de uma atualização de conhecimentos na fisiopatologia e tratamento farmacológico\, o objetivo é mostrar de que forma o farmacêutico comunitário pode intervir nestas doenças\, de forma a apoiar e fazer o seguimento das utentes\, em casos agudos e/ ou recorrentes. \n\n Inscrições até 15 de Janeiro de 2026 (data da primeira sessão)\n\n\n\nLink para inscrição: https://forms.gle/8oiqJUMtdfPmLFt69\n\n\n\n\n\n\n\n Ciclo de Formação em Saúde Feminina para Farmacêuticos  Inscrições Abertas!\n\n\nA APFPC\, com o apoio da Pharma Kern\, vai lançar ao longo de 2026 o ciclo de formações “Saúde Feminina – A Intervenção do Farmacêutico Comunitário”\, pensada para atualizar e aprofundar o papel do farmacêutico no acompanhamento da saúde da mulher.\n\n\n\n\n\n Formadores:\n* Ana Isabel Ferreira – farmacêutica\, criadora do projeto “Farmacêutica da Mulher”\n* Jorge Ferreira – farmacêutico\, mestre em Medicina Reprodutiva e Sexual\, especialista em infertilidade e PMA\n\n\n 4 módulos independentes (podes fazer apenas os que quiseres!)\, com 4–5 sessões online pós-laborais via Teams:\n\n\n\n\n Vulvovaginites e Infeções Ginecológicas – Jan/Fev\n Menopausa – Abril\n Ciclo Menstrual e (In)Fertilidade – Set/Out\n Contraceção – Novembro\n\n\n Investimento:\n* 30€/módulo para sócios | 100€/módulo não-sócios\n* Curso completo: 120€ sócios | 350€ não-sócios\n\n\n Após inscrição\, recebes por email o manual e todos os links das sessões. Dúvidas: formacao@apfpc.pt\nMais informação consulta o programa da formação aqui.\n\n\n\n\n\n\nSer sócio da APFPC
URL:https://apfpc.pt/evento/modulo-i-vulvovaginites-e-infecoes-ginecologicas-o-guia-do-corrimento/
ATTACH;FMTTYPE=image/jpeg:https://apfpc.pt/wp-content/uploads/2025/12/11-min-scaled.jpg
ORGANIZER;CN="APFPC":MAILTO:geral@apfpc.pt
END:VEVENT
END:VCALENDAR